BEGIN:VCALENDAR
VERSION:2.0
PRODID:-//Talks.cam//talks.cam.ac.uk//
X-WR-CALNAME:Talks.cam
BEGIN:VEVENT
SUMMARY: A novel high denisity lipoprotein with broad antimicrobial activi
 ty: The good cholesterol? - Prof Jayne Raper\, New York University
DTSTART:20090617T160000Z
DTEND:20090617T170000Z
UID:TALK18334@talks.cam.ac.uk
CONTACT:Stephen Mitchell
DESCRIPTION:Abstract not available
LOCATION:Lecture Theatre\, Department of Pathology
END:VEVENT
END:VCALENDAR
