BEGIN:VCALENDAR
VERSION:2.0
PRODID:-//Talks.cam//talks.cam.ac.uk//
X-WR-CALNAME:Talks.cam
BEGIN:VEVENT
SUMMARY:The Past\, Present and Future of Energy Technology inside BP - Dav
 id Eyton\, BP
DTSTART:20090508T163000Z
DTEND:20090508T173000Z
UID:TALK18335@talks.cam.ac.uk
CONTACT:Catherine Pearson
DESCRIPTION:In the year that BP celebrates its centenary\, David Eyton\, t
 he company's head of research and technology\, will look back over 100 yea
 rs of technology innovation in the energy business and asks what this sign
 als for the energy challenges of tomorrow
LOCATION:Fisher Building\, St Johns College
END:VEVENT
END:VCALENDAR
