BEGIN:VCALENDAR
VERSION:2.0
PRODID:-//Talks.cam//talks.cam.ac.uk//
X-WR-CALNAME:Talks.cam
BEGIN:VEVENT
SUMMARY:The metric geometry of Lagrangian submanifolds - Jean-Phillippe Ch
 assé (ETH Zurich)
DTSTART:20230310T160000Z
DTEND:20230310T170000Z
UID:TALK183899@talks.cam.ac.uk
CONTACT:Macarena Arenas
DESCRIPTION:After reviewing some elements of symplectic topology\, I will 
 explain a few ways one can define metrics between so-called Lagrangian sub
 manifolds of a symplectic manifold. Even though these metrics differ great
 ly on a large scale\, I will demonstrate how one can relate them locally w
 hen additional contraints are present.
LOCATION:MR13
END:VEVENT
END:VCALENDAR
