BEGIN:VCALENDAR
VERSION:2.0
PRODID:-//Talks.cam//talks.cam.ac.uk//
X-WR-CALNAME:Talks.cam
BEGIN:VEVENT
SUMMARY:Evolution beyond biology: from manuscripts to magic carpets - Chri
 s Howe\, Department of Biochemistry\, University of Cambridge
DTSTART:20090924T153000Z
DTEND:20090924T160000Z
UID:TALK18545@talks.cam.ac.uk
CONTACT:Denise Schofield
DESCRIPTION:Abstract not available
LOCATION:Lubbock Room\, Peterhouse\, Cambridge
END:VEVENT
END:VCALENDAR
