BEGIN:VCALENDAR
VERSION:2.0
PRODID:-//Talks.cam//talks.cam.ac.uk//
X-WR-CALNAME:Talks.cam
BEGIN:VEVENT
SUMMARY:Abel-Jacobi isomorphism for one-cycles on the moduli space of vect
 or bundles on a curve - Jaya Iyer (Hyderabad)
DTSTART:20090603T131500Z
DTEND:20090603T141500Z
UID:TALK18746@talks.cam.ac.uk
CONTACT:Burt Totaro
DESCRIPTION:Abstract not available
LOCATION:MR13\, CMS
END:VEVENT
END:VCALENDAR
