BEGIN:VCALENDAR
VERSION:2.0
PRODID:-//Talks.cam//talks.cam.ac.uk//
X-WR-CALNAME:Talks.cam
BEGIN:VEVENT
SUMMARY:A Galois D-groupoid for q-difference equations - Granier\, A (Inst
 itut de Mathematiques de Toulouse)
DTSTART:20090609T100000Z
DTEND:20090609T110000Z
UID:TALK18770@talks.cam.ac.uk
CONTACT:Mustapha Amrani
DESCRIPTION:
LOCATION:Seminar Room 1\, Newton Institute
END:VEVENT
END:VCALENDAR
