BEGIN:VCALENDAR
VERSION:2.0
PRODID:-//Talks.cam//talks.cam.ac.uk//
X-WR-CALNAME:Talks.cam
BEGIN:VEVENT
SUMMARY:thing - Speaker to be confirmed
DTSTART:20090605T100000Z
DTEND:20090605T110000Z
UID:TALK18776@talks.cam.ac.uk
CONTACT:V L Allan
DESCRIPTION:Abstract not available
LOCATION:Venue to be confirmed
END:VEVENT
END:VCALENDAR
