BEGIN:VCALENDAR
VERSION:2.0
PRODID:-//Talks.cam//talks.cam.ac.uk//
X-WR-CALNAME:Talks.cam
BEGIN:VEVENT
SUMMARY:Deligne-Lusztig varieties\, Braid groups and cyclotomic Hecke alge
 bras - Brou\, M (Institut Henri Poincar )
DTSTART:20090626T143000Z
DTEND:20090626T153000Z
UID:TALK18863@talks.cam.ac.uk
CONTACT:Mustapha Amrani
DESCRIPTION:
LOCATION:Seminar Room 1\, Newton Institute
END:VEVENT
END:VCALENDAR
