BEGIN:VCALENDAR
VERSION:2.0
PRODID:-//Talks.cam//talks.cam.ac.uk//
X-WR-CALNAME:Talks.cam
BEGIN:VEVENT
SUMMARY:Stability conditions and Stokes factors - Toledano-Laredo\, V (Nor
 theastern)
DTSTART:20090622T143000Z
DTEND:20090622T153000Z
UID:TALK18899@talks.cam.ac.uk
CONTACT:Mustapha Amrani
DESCRIPTION:There are two approaches to the theory of D-modules on quantiz
 ed flag manifolds\; one by Lunts-Rosenberg and myself using Proj\, and the
  other by Backelin-Kremnizer using equivariant D-modules. I will give some
  account of my result on D-modules on qunatized flag manifolds at roots of
  1 using Proj.\n
LOCATION:Seminar Room 1\, Newton Institute
END:VEVENT
END:VCALENDAR
