BEGIN:VCALENDAR
VERSION:2.0
PRODID:-//Talks.cam//talks.cam.ac.uk//
X-WR-CALNAME:Talks.cam
BEGIN:VEVENT
SUMMARY:Bispectral quantum KZ equations and their solutions - Stokman\, J 
 (Universiteit van Amsterdam)
DTSTART:20090702T080000Z
DTEND:20090702T090000Z
UID:TALK18974@talks.cam.ac.uk
CONTACT:Mustapha Amrani
DESCRIPTION:I will report on correspondences between bispectral problems f
 or \n\n(1) Ruijsenaars' q-difference equations\, (2) Cherednik's q-differe
 nce reflection equations\, and (3) quantum Knizhnik-Zamolodchikov equation
 s. \n\nIn addition I will discuss the solutions to these bispectral proble
 ms\, and their interrelations. An important role in this analysis will be 
 played by Cherednik's q-analog of the spherical function\, which solves th
 e bispectral problem of Ruijsenaars' q-difference equations. \n\nThis talk
  is partially based on joint work with Michel van Meer. \n\n
LOCATION:Seminar Room 1\, Newton Institute
END:VEVENT
END:VCALENDAR
