BEGIN:VCALENDAR
VERSION:2.0
PRODID:-//Talks.cam//talks.cam.ac.uk//
X-WR-CALNAME:Talks.cam
BEGIN:VEVENT
SUMMARY:Taking it up a Notch\, building the body plan - Professor Kim Dale
 \, University of Dundee
DTSTART:20230124T113000Z
DTEND:20230124T123000Z
UID:TALK192521@talks.cam.ac.uk
CONTACT:Lynn Froggett
DESCRIPTION:Abstract not available
LOCATION:Gurdon Institute Tea Room
END:VEVENT
END:VCALENDAR
