BEGIN:VCALENDAR
VERSION:2.0
PRODID:-//Talks.cam//talks.cam.ac.uk//
X-WR-CALNAME:Talks.cam
BEGIN:VEVENT
SUMMARY:On the section conjecture for universal curves over function field
 s - Hain\, R (Duke)
DTSTART:20090729T103000Z
DTEND:20090729T113000Z
UID:TALK19263@talks.cam.ac.uk
CONTACT:Mustapha Amrani
DESCRIPTION:In this talk I will discuss a version of Grothendieck's Sectio
 n Conjecture for the universal curve over the function field of the moduli
  space of curves type (g\,n) with a level m structure.
LOCATION:Seminar Room 1\, Newton Institute
END:VEVENT
END:VCALENDAR
