BEGIN:VCALENDAR
VERSION:2.0
PRODID:-//Talks.cam//talks.cam.ac.uk//
X-WR-CALNAME:Talks.cam
BEGIN:VEVENT
SUMMARY:Coupled Systems of Nonlinear\, Dispersive Systems - Jerry Bona (Un
 iversity of Illinois at Chicago)
DTSTART:20221123T153000Z
DTEND:20221123T163000Z
UID:TALK192986@talks.cam.ac.uk
DESCRIPTION:The discussion will focus on a class of coupled systems of KdV
 /BBM type. &nbsp\;&nbsp\;First examined are the question of solitary-wave 
 solutions.&nbsp\; Derived are &nbsp\;descriptions of such waves as well as
  criteria for their stability.&nbsp\; Numerical&nbsp\;simulations help fil
 l in the overall picture\, which can be quite different from&nbsp\;single 
 equations of KdV/BBM type.&nbsp\; The lecture will conclude with a &nbsp\;
 particular system that has some interesting mathematical implications for 
 the KdV equation itself.&nbsp\; &nbsp\;\nThis is joint work with H. Chen\,
  O. Karakashian and F. Weissler
LOCATION:Seminar Room 2\, Newton Institute
END:VEVENT
END:VCALENDAR
