BEGIN:VCALENDAR
VERSION:2.0
PRODID:-//Talks.cam//talks.cam.ac.uk//
X-WR-CALNAME:Talks.cam
BEGIN:VEVENT
SUMMARY:Where do ideas come from? - Dame Gillian Beer\, Professor Rosamond
  McKitterick\, author Lisa Appignanesi\, President of English PEN\, and au
 thor Andrew Robinson will lead the discussion\, chaired by Professor Adria
 n Poole
DTSTART:20091021T163000Z
DTEND:20091021T173000Z
UID:TALK19323@talks.cam.ac.uk
CONTACT:14797
DESCRIPTION:Do creative ideas come from recycling the past\, froms cientif
 ic advances or are they just a matter of serendipity?  Dame Gillian Beer\,
  Professor Rosamond McKitterick\, author Lisa Appignanesi\, President of E
 nglish PEN\, and author Andrew Robinson will lead the discussion\, chaired
  by Professor Adrian Poole.\n\nTalk\, arrive on time\, Adults
LOCATION:Mill Lane Lecture Room 3\, Mill Lane
END:VEVENT
END:VCALENDAR
