BEGIN:VCALENDAR
VERSION:2.0
PRODID:-//Talks.cam//talks.cam.ac.uk//
X-WR-CALNAME:Talks.cam
BEGIN:VEVENT
SUMMARY:Mapping the Universe at 21 cm - Dr Seth Siegel\, McGill University
 \, Montreal
DTSTART:20230109T110000Z
DTEND:20230109T114000Z
UID:TALK194155@talks.cam.ac.uk
CONTACT:Leona Hope-Coles
DESCRIPTION:Abstract not available
LOCATION:Cavendish Laboratory\, Pippard Lecture Theatre &amp\; TEAMS
END:VEVENT
END:VCALENDAR
