BEGIN:VCALENDAR
VERSION:2.0
PRODID:-//Talks.cam//talks.cam.ac.uk//
X-WR-CALNAME:Talks.cam
BEGIN:VEVENT
SUMMARY:Combining chemical-genetic with metabolic profiling to study a dyn
 amic metabolic transition - Markus Ralser\, Max Planck Institute for Molec
 ular Genetics\, Berlin
DTSTART:20090924T110000Z
DTEND:20090924T120000Z
UID:TALK19429@talks.cam.ac.uk
CONTACT:Mrs Hayley Leverett
DESCRIPTION:Abstract not available
LOCATION:Seminar Room\, Biochemistry Department (Sanger Building)\, Tennis
  Court Road
END:VEVENT
END:VCALENDAR
