BEGIN:VCALENDAR
VERSION:2.0
PRODID:-//Talks.cam//talks.cam.ac.uk//
X-WR-CALNAME:Talks.cam
BEGIN:VEVENT
SUMMARY:Keeping up the pressure - Patricia Alireza\, Quantum Matter Group\
 , Cavendish Laboratory
DTSTART:20230302T150000Z
DTEND:20230302T160000Z
UID:TALK194470@talks.cam.ac.uk
CONTACT:Stephen Walley
DESCRIPTION:An overview of the high-pressure techniques in Moissanite and 
 diamond anvil cells used to study transport and magnetic phase transitions
  in strongly correlated systems. These cells are used for ac-susceptibilit
 y\, DC-magnetisation\, TDO\, and resistivity measurements\, including pres
 sure induced superconductivity and metal-insulator transitions.\n\nJoin on
  your computer\, mobile app or room device\n"Click here to join the talk o
 nline":https://teams.microsoft.com/l/meetup-join/19%3ameeting_OWY1ZjY1MTgt
 N2VjMC00OWFjLTljNWUtYjg2NDgwZTA1NmU0%40thread.v2/0?context=%7b%22Tid%22%3a
 %2249a50445-bdfa-4b79-ade3-547b4f3986e9%22%2c%22Oid%22%3a%227c6a2f02-88b3-
 4342-87da-b62dd7126ff0%22%7d\nMeeting ID: 397 072 953 845 \nPasscode: 4FY5
 i8
LOCATION:Mott Seminar Room\, Cavendish Laboratory
END:VEVENT
END:VCALENDAR
