BEGIN:VCALENDAR
VERSION:2.0
PRODID:-//Talks.cam//talks.cam.ac.uk//
X-WR-CALNAME:Talks.cam
BEGIN:VEVENT
SUMMARY:Symmetry protected topology:  Entanglement\, symmetries\, and quan
 tum phases of matter - Max McGinley (Department of Physics\, University of
  Cambridge)
DTSTART:20230208T100000Z
DTEND:20230208T110000Z
UID:TALK195007@talks.cam.ac.uk
CONTACT:nrc25
DESCRIPTION:See the "TCM graduate teaching page":https://www.tcm.phy.cam.a
 c.uk/impact/teaching.html for further information.
LOCATION:TCM Seminar Room
END:VEVENT
END:VCALENDAR
