BEGIN:VCALENDAR
VERSION:2.0
PRODID:-//Talks.cam//talks.cam.ac.uk//
X-WR-CALNAME:Talks.cam
BEGIN:VEVENT
SUMMARY:Technologies &amp\; platforms for the generation of epigenetics da
 ta. - Stephan Beck\, University College London
DTSTART:20090921T110000Z
DTEND:20090921T113000Z
UID:TALK19522@talks.cam.ac.uk
CONTACT:Dominic Clark
DESCRIPTION:Abstract not available
LOCATION:WTCC\, Hinxton\, UK
END:VEVENT
END:VCALENDAR
