BEGIN:VCALENDAR
VERSION:2.0
PRODID:-//Talks.cam//talks.cam.ac.uk//
X-WR-CALNAME:Talks.cam
BEGIN:VEVENT
SUMMARY:Weak approximation for del Pezzo surfaces of low degree - Sam Stre
 eter (University of Bristol)
DTSTART:20230214T143000Z
DTEND:20230214T153000Z
UID:TALK195364@talks.cam.ac.uk
CONTACT:Rong Zhou
DESCRIPTION:Many results and conjectures in arithmetic geometry are founde
 d upon the belief that the rational points of Fano varieties are both abun
 dant and well-distributed. In this talk we focus on del Pezzo surfaces (di
 mension-two Fano varieties) and take weak approximation as our notion of a
 bundance/good distribution. We elucidate the geometric ideas behind recent
  results and ongoing work on weak approximation for del Pezzo surfaces of 
 low degree. This is based on joint work with Julian Demeio and Rosa Winter
 .
LOCATION:MR13
END:VEVENT
END:VCALENDAR
