BEGIN:VCALENDAR
VERSION:2.0
PRODID:-//Talks.cam//talks.cam.ac.uk//
X-WR-CALNAME:Talks.cam
BEGIN:VEVENT
SUMMARY:Epigenetics of cancer - Joost Martens\, Nijmegen Centre For Molecu
 lar Life Sciences
DTSTART:20090921T132000Z
DTEND:20090921T135000Z
UID:TALK19547@talks.cam.ac.uk
CONTACT:Dominic Clark
DESCRIPTION:Abstract not available
LOCATION:WTCC\, Hinxton\, UK
END:VEVENT
END:VCALENDAR
