BEGIN:VCALENDAR
VERSION:2.0
PRODID:-//Talks.cam//talks.cam.ac.uk//
X-WR-CALNAME:Talks.cam
BEGIN:VEVENT
SUMMARY:Emerging topics in computational epigenomics - Paul Flicek\, EMBL-
 EBI
DTSTART:20090921T160000Z
DTEND:20090921T163000Z
UID:TALK19551@talks.cam.ac.uk
CONTACT:Dominic Clark
DESCRIPTION:Abstract not available
LOCATION:WTCC\, Hinxton\, UK
END:VEVENT
END:VCALENDAR
