BEGIN:VCALENDAR
VERSION:2.0
PRODID:-//Talks.cam//talks.cam.ac.uk//
X-WR-CALNAME:Talks.cam
BEGIN:VEVENT
SUMMARY:Spin Hall effect of light in random media - Nicolas Cherroret (CNR
 S (Centre national de la recherche scientifique))
DTSTART:20230320T113000Z
DTEND:20230320T120000Z
UID:TALK195589@talks.cam.ac.uk
DESCRIPTION:
LOCATION:Seminar Room 1\, Newton Institute
END:VEVENT
END:VCALENDAR
