BEGIN:VCALENDAR
VERSION:2.0
PRODID:-//Talks.cam//talks.cam.ac.uk//
X-WR-CALNAME:Talks.cam
BEGIN:VEVENT
SUMMARY:Inverse optimal transport - Marie-Therese Wolfram (University of W
 arwick)
DTSTART:20230329T124500Z
DTEND:20230329T133000Z
UID:TALK195772@talks.cam.ac.uk
DESCRIPTION:
LOCATION:External
END:VEVENT
END:VCALENDAR
