BEGIN:VCALENDAR
VERSION:2.0
PRODID:-//Talks.cam//talks.cam.ac.uk//
X-WR-CALNAME:Talks.cam
BEGIN:VEVENT
SUMMARY:Using adjoints to efficiently train a digital twin of air pollutio
 n in Kampala - Richard Wilkinson (University of Nottingham)
DTSTART:20230330T093000Z
DTEND:20230330T101500Z
UID:TALK195778@talks.cam.ac.uk
DESCRIPTION:
LOCATION:External
END:VEVENT
END:VCALENDAR
