BEGIN:VCALENDAR
VERSION:2.0
PRODID:-//Talks.cam//talks.cam.ac.uk//
X-WR-CALNAME:Talks.cam
BEGIN:VEVENT
SUMMARY:Iron catalysed cyclotrimerisation: Reactions of alkynes and phosph
 aalkynes - Dr Ruth Webster\, University of Bath
DTSTART:20230209T160000Z
DTEND:20230209T170000Z
UID:TALK196168@talks.cam.ac.uk
CONTACT:Chloe Barker
DESCRIPTION:Abstract not available
LOCATION:Dept of Chemistry\, Wolfson Lecture Theatre 
END:VEVENT
END:VCALENDAR
