BEGIN:VCALENDAR
VERSION:2.0
PRODID:-//Talks.cam//talks.cam.ac.uk//
X-WR-CALNAME:Talks.cam
BEGIN:VEVENT
SUMMARY:Copy number variation\, segmentation algorithms\, et al - Oscar Ru
 eda (CRUK CRI)
DTSTART:20090914T140000Z
DTEND:20090914T150000Z
UID:TALK19653@talks.cam.ac.uk
CONTACT:Florian Markowetz
DESCRIPTION:Abstract not available
LOCATION:Room 132\, CRI
END:VEVENT
END:VCALENDAR
