BEGIN:VCALENDAR
VERSION:2.0
PRODID:-//Talks.cam//talks.cam.ac.uk//
X-WR-CALNAME:Talks.cam
BEGIN:VEVENT
SUMMARY:A role for hippocampal neurogenesis in pattern separation: implica
 tions for the organisation of memory and cognition - Dr Tim Bussey\, Depar
 tment of Experimental Psychology\, University of Cambridge
DTSTART:20091014T110000Z
DTEND:20091014T120000Z
UID:TALK19657@talks.cam.ac.uk
CONTACT:Elaine Garrod
DESCRIPTION:Abstract not available
LOCATION:Brain Repair Centre\, Forvie Site\, Robinson Way
END:VEVENT
END:VCALENDAR
