BEGIN:VCALENDAR
VERSION:2.0
PRODID:-//Talks.cam//talks.cam.ac.uk//
X-WR-CALNAME:Talks.cam
BEGIN:VEVENT
SUMMARY:Celebrating an anniversary in the history of science - Samir Boume
 diene (École Normale Supérieure de Lyon)
DTSTART:20230216T153000Z
DTEND:20230216T170000Z
UID:TALK196657@talks.cam.ac.uk
CONTACT:Jacob Stegenga
DESCRIPTION:Abstract: Surprise.
LOCATION:Seminar Room 2\, Department of History and Philosophy of Science
END:VEVENT
END:VCALENDAR
