BEGIN:VCALENDAR
VERSION:2.0
PRODID:-//Talks.cam//talks.cam.ac.uk//
X-WR-CALNAME:Talks.cam
BEGIN:VEVENT
SUMMARY:Grand Round 8 Feb 2023 - Speaker to be confirmed
DTSTART:20230202T130000Z
DTEND:20230202T140000Z
UID:TALK196990@talks.cam.ac.uk
CONTACT:Laura M
DESCRIPTION:“To Feed or Not to Feed? Nutrition and hydration at end of l
 ife.”\nDr Helen Hayhoe\nDME: Medicine for the Elderly\n\n** ** **\n“Di
 agnostic difficulty - answer required stat: the role of sequencing”\nDr 
 Rofaida Desoki and Dr Stephany Barreda\nClinical Immunology/Allergy\n\n\nC
 hair: Professor Stephen O’Rahilly\n
LOCATION:William Harvey Lecture Theatre
END:VEVENT
END:VCALENDAR
