BEGIN:VCALENDAR
VERSION:2.0
PRODID:-//Talks.cam//talks.cam.ac.uk//
X-WR-CALNAME:Talks.cam
BEGIN:VEVENT
SUMMARY:Global 3D model of mantle attenuation using seismic normal modes a
 nd surface waves - Sujania Talavera-Soza  - UC San Diego
DTSTART:20230222T160000Z
DTEND:20230222T170000Z
UID:TALK197332@talks.cam.ac.uk
CONTACT:Lisanne Jagt
DESCRIPTION:Abstract not available
LOCATION:Wolfson Lecture Theatre (virtual)
END:VEVENT
END:VCALENDAR
