BEGIN:VCALENDAR
VERSION:2.0
PRODID:-//Talks.cam//talks.cam.ac.uk//
X-WR-CALNAME:Talks.cam
BEGIN:VEVENT
SUMMARY:Problem 3: Mathematical Modelling of Blenders and Food Processors 
 – How to Make the Perfect Smoothie - Matthew Shirley (University of Oxfo
 rd)
DTSTART:20230710T144000Z
DTEND:20230710T150500Z
UID:TALK197383@talks.cam.ac.uk
DESCRIPTION:
LOCATION:External
END:VEVENT
END:VCALENDAR
