BEGIN:VCALENDAR
VERSION:2.0
PRODID:-//Talks.cam//talks.cam.ac.uk//
X-WR-CALNAME:Talks.cam
BEGIN:VEVENT
SUMMARY:Programmable Emulsions By Design - Jasna Brujic (New York Universi
 ty)
DTSTART:20230914T103500Z
DTEND:20230914T111500Z
UID:TALK197512@talks.cam.ac.uk
DESCRIPTION:
LOCATION:Centre for Mathematical Sciences
END:VEVENT
END:VCALENDAR
