BEGIN:VCALENDAR
VERSION:2.0
PRODID:-//Talks.cam//talks.cam.ac.uk//
X-WR-CALNAME:Talks.cam
BEGIN:VEVENT
SUMMARY:Current Directions of Political Ecology Scholarship. A broad overv
 iew from the Editor of Journal of Political Ecology - Prof Simon Batterbur
 y\, University of Melbourne
DTSTART:20230228T110000Z
DTEND:20230228T120000Z
UID:TALK197905@talks.cam.ac.uk
CONTACT:Valerio Donfrancesco
DESCRIPTION:Abstract not available
LOCATION:https://zoom.us/j/8314166462
END:VEVENT
END:VCALENDAR
