BEGIN:VCALENDAR
VERSION:2.0
PRODID:-//Talks.cam//talks.cam.ac.uk//
X-WR-CALNAME:Talks.cam
BEGIN:VEVENT
SUMMARY:Capacity of the range of random walk - Izumi Okada (Tokyo)
DTSTART:20230314T153000Z
DTEND:20230314T163000Z
UID:TALK198169@talks.cam.ac.uk
CONTACT:Perla Sousi
DESCRIPTION:We study the capacity of the range of a simple random walk in 
 three and higher dimensions. It is known that the order of the capacity of
  the random walk range in n dimensions is similar to that of the volume of
  the random walk range in n-2 dimensions. We show that this correspondence
  breaks down for the law of the iterated logarithm for the capacity of the
  random walk range in three dimensions. We also prove the law of the itera
 ted logarithm in higher dimensions. This is joint work with Amir Dembo. 
LOCATION:MR12\, Centre for Mathematical Sciences
END:VEVENT
END:VCALENDAR
