BEGIN:VCALENDAR
VERSION:2.0
PRODID:-//Talks.cam//talks.cam.ac.uk//
X-WR-CALNAME:Talks.cam
BEGIN:VEVENT
SUMMARY:Coarse-grained modelling of biological and biomimetic surfactants 
 - Craig Kitchen (CUC3)
DTSTART:20091009T110000Z
DTEND:20091009T112500Z
UID:TALK19919@talks.cam.ac.uk
CONTACT:Dr Mark Miller
DESCRIPTION:Abstract not available
LOCATION:Pfizer Lecture Theatre\, Department of Chemistry
END:VEVENT
END:VCALENDAR
