BEGIN:VCALENDAR
VERSION:2.0
PRODID:-//Talks.cam//talks.cam.ac.uk//
X-WR-CALNAME:Talks.cam
BEGIN:VEVENT
SUMMARY:Ring-polymer transition-state theory - Jeremy Richardson (CUC3)
DTSTART:20091009T112500Z
DTEND:20091009T115000Z
UID:TALK19920@talks.cam.ac.uk
CONTACT:Dr Mark Miller
DESCRIPTION:Abstract not available
LOCATION:Pfizer Lecture Theatre\, Department of Chemistry
END:VEVENT
END:VCALENDAR
