BEGIN:VCALENDAR
VERSION:2.0
PRODID:-//Talks.cam//talks.cam.ac.uk//
X-WR-CALNAME:Talks.cam
BEGIN:VEVENT
SUMMARY:Phase Transition for Random Walks on Graphs with Added Weighted Ra
 ndom Matching - Zsuzsanna Baran (Cantab Capital Institute for the Mathemat
 ics of Information)
DTSTART:20230510T130500Z
DTEND:20230510T131500Z
UID:TALK199426@talks.cam.ac.uk
DESCRIPTION:
LOCATION:Seminar Room 1\, Newton Institute
END:VEVENT
END:VCALENDAR
