BEGIN:VCALENDAR
VERSION:2.0
PRODID:-//Talks.cam//talks.cam.ac.uk//
X-WR-CALNAME:Talks.cam
BEGIN:VEVENT
SUMMARY:Molecular mechanisms of oocyte specification in female germline cy
 sts - Dr. Dmitry Nashchekin\, Gurdon Institute 
DTSTART:20230602T120000Z
DTEND:20230602T130000Z
UID:TALK200002@talks.cam.ac.uk
CONTACT:Alex Donovan
DESCRIPTION:Abstract not available
LOCATION:Biffen Theater- Please subscribe to mailing list for link
END:VEVENT
END:VCALENDAR
