BEGIN:VCALENDAR
VERSION:2.0
PRODID:-//Talks.cam//talks.cam.ac.uk//
X-WR-CALNAME:Talks.cam
BEGIN:VEVENT
SUMMARY:CANCELLED - Nonlinear damping measurement in rotating fan and comp
 ressor disks - Dr Matt De Brett\, Imperial College London
DTSTART:20230526T150000Z
DTEND:20230526T160000Z
UID:TALK200191@talks.cam.ac.uk
CONTACT:46601
DESCRIPTION:Abstract not available
LOCATION:JDB Seminar Room\, CUED
END:VEVENT
END:VCALENDAR
