BEGIN:VCALENDAR
VERSION:2.0
PRODID:-//Talks.cam//talks.cam.ac.uk//
X-WR-CALNAME:Talks.cam
BEGIN:VEVENT
SUMMARY:The prognostic significance of subtypes of breast cancer classifie
 d using immunohistochemistry - Dr Paul Pharoah\, Strangeways Research Labo
 ratory/Oncology
DTSTART:20100216T120000Z
DTEND:20100216T130000Z
UID:TALK20025@talks.cam.ac.uk
CONTACT:Mala Jayasundera
DESCRIPTION:Abstract not available
LOCATION:CRI Lecture Theatre
END:VEVENT
END:VCALENDAR
