BEGIN:VCALENDAR
VERSION:2.0
PRODID:-//Talks.cam//talks.cam.ac.uk//
X-WR-CALNAME:Talks.cam
BEGIN:VEVENT
SUMMARY:Welcome and Introduction - Ulrike Tillmann (Isaac Newton Institute
 )\, Clare Merritt (Newton Gateway to Mathematics)\, Valerie Pinfield (Loug
 hborough University)
DTSTART:20230531T090000Z
DTEND:20230531T091500Z
UID:TALK200302@talks.cam.ac.uk
DESCRIPTION:
LOCATION:Seminar Room 1\, Newton Institute
END:VEVENT
END:VCALENDAR
