BEGIN:VCALENDAR
VERSION:2.0
PRODID:-//Talks.cam//talks.cam.ac.uk//
X-WR-CALNAME:Talks.cam
BEGIN:VEVENT
SUMMARY:Fpm and Stdlib: Recent developments in the Fortran Ecosystem  - La
 urence Kedward\, RSE\, Department of Aerospace Engineering\, University of
  Bristol
DTSTART:20230615T120000Z
DTEND:20230615T130000Z
UID:TALK200740@talks.cam.ac.uk
CONTACT:Jack Atkinson
DESCRIPTION:A community of developers has formed to modernize the Fortran 
 ecosystem. In this presentation\, we describe recent and ongoing efforts i
 ncluding the development of a Fortran standard library and package manager
 \, the fostering of a friendly and welcoming online community\, improved c
 ompiler support\, and language feature development. The lessons learned ar
 e common across contemporary programming languages and help reduce the lea
 rning curve and increase adoption of Fortran.\n\nHybrid Zoom details will 
 be emailed to the RSE mailing list\; if you are not on the list\, please c
 ontact the organisers.
LOCATION:West Hub\, South Room
END:VEVENT
END:VCALENDAR
