BEGIN:VCALENDAR
VERSION:2.0
PRODID:-//Talks.cam//talks.cam.ac.uk//
X-WR-CALNAME:Talks.cam
BEGIN:VEVENT
SUMMARY:'Bioethics and fatherhood: sketching the issues' - Dr. Jonathon Iv
 es (Centre for Biomedical Ethics\, University of Birmingham)
DTSTART:20091201T130000Z
DTEND:20091201T140000Z
UID:TALK20077@talks.cam.ac.uk
CONTACT:8810
DESCRIPTION:Abstract not available
LOCATION:Maxwell Lecture Theatre\, Faculty of PPSIS\, Free School Lane
END:VEVENT
END:VCALENDAR
