BEGIN:VCALENDAR
VERSION:2.0
PRODID:-//Talks.cam//talks.cam.ac.uk//
X-WR-CALNAME:Talks.cam
BEGIN:VEVENT
SUMMARY:Kidney cancer - Dr James Jones\; Cambridge University Hospitals NH
 SFT
DTSTART:20230509T083000Z
DTEND:20230509T093000Z
UID:TALK200908@talks.cam.ac.uk
CONTACT:Justin Holt
DESCRIPTION:Abstract not available
LOCATION:Online only via Zoom
END:VEVENT
END:VCALENDAR
