BEGIN:VCALENDAR
VERSION:2.0
PRODID:-//Talks.cam//talks.cam.ac.uk//
X-WR-CALNAME:Talks.cam
BEGIN:VEVENT
SUMMARY:The promise of proton therapy in paediatric tumours  - Dr Thankamm
 a Ajithkumar\, Consultant Clinical Oncologist\, Cambridge University Hospi
 tals NHS Foundation Trust
DTSTART:20230629T083000Z
DTEND:20230629T093000Z
UID:TALK201289@talks.cam.ac.uk
CONTACT:Justin Holt
DESCRIPTION:Abstract not available
LOCATION:William Harvey Lecture Theatre\, School of Clinical Medicine
END:VEVENT
END:VCALENDAR
