BEGIN:VCALENDAR
VERSION:2.0
PRODID:-//Talks.cam//talks.cam.ac.uk//
X-WR-CALNAME:Talks.cam
BEGIN:VEVENT
SUMMARY:An in-depth look at Deep Learning in Digital Media - Prof. Panos N
 asiopoulos\, University of British Columbia
DTSTART:20230525T100000Z
DTEND:20230525T110000Z
UID:TALK201328@talks.cam.ac.uk
CONTACT:Rafal Mantiuk
DESCRIPTION:AI has significantly impacted the digital media landscape\, re
 volutionizing various aspects of content creation\, distribution\, and con
 sumption. Here\, we will take an in-depth look at how AI is transforming d
 igital media and focus on Intelligent transportation for smart cities\, co
 ntent creation and detection of deepfakes\, video/image compression and we
 llness.\n\nTo join remotely:\n https://cl-cam-ac-uk.zoom.us/j/95880959910?
 pwd%3DSUNmQnhJMkgrazBKeTA0ZnI0M2VQQT09&sa=D&source=calendar&usd=2&usg=AOvV
 aw2wJh6zS-hiRMt7qOit256D\n ID: 95880959910\n Passcode: 570232
LOCATION:SS03
END:VEVENT
END:VCALENDAR
