BEGIN:VCALENDAR
VERSION:2.0
PRODID:-//Talks.cam//talks.cam.ac.uk//
X-WR-CALNAME:Talks.cam
BEGIN:VEVENT
SUMMARY:Novel\, but essential\, cytoskeleton functions in trypanosomes\; f
 rom organelle segregation to biogenesis. - CANCELLED - Derrick R. Robinson
  (Bordeaux)
DTSTART:20100421T160000Z
DTEND:20100421T170000Z
UID:TALK20194@talks.cam.ac.uk
CONTACT:15285
DESCRIPTION:Abstract not available
LOCATION:Seminar Room\, Department of Pathology
END:VEVENT
END:VCALENDAR
