BEGIN:VCALENDAR
VERSION:2.0
PRODID:-//Talks.cam//talks.cam.ac.uk//
X-WR-CALNAME:Talks.cam
BEGIN:VEVENT
SUMMARY:Limit multiplicities\, trace formulas and von Neumann dimensions -
  Jun Yang (Harvard University)
DTSTART:20230629T123000Z
DTEND:20230629T131000Z
UID:TALK201994@talks.cam.ac.uk
DESCRIPTION:Given a tower of lattices in a semisimple Lie group G\, we wil
 l discuss the multiplicity of an irreducible representation of G in the L^
 2-space of functions on the quotients. We apply the Arthur-Selberg trace f
 ormulas to involve a bounded family of representations. We will show the l
 imit multiplicities are von Neumann dimensions if the lattices are uniform
  or G is SL(n).
LOCATION:Seminar Room 1\, Newton Institute
END:VEVENT
END:VCALENDAR
