BEGIN:VCALENDAR
VERSION:2.0
PRODID:-//Talks.cam//talks.cam.ac.uk//
X-WR-CALNAME:Talks.cam
BEGIN:VEVENT
SUMMARY:On the redshift evolution of the BH-galaxy scaling relations: new 
 results from the zCOSMOS survey - Andrea Merloni (MPE\, Garching)
DTSTART:20091111T131500Z
DTEND:20091111T134500Z
UID:TALK20223@talks.cam.ac.uk
CONTACT:Dr Jonathan Gair
DESCRIPTION:Abstract not available
LOCATION:Sackler Lecture Theatre\, IoA
END:VEVENT
END:VCALENDAR
